BEGIN:VCALENDAR
VERSION:2.0
PRODID:-//JEOL - ECPv6.10.2//NONSGML v1.0//EN
CALSCALE:GREGORIAN
METHOD:PUBLISH
X-ORIGINAL-URL:https://www.jeol.fr
X-WR-CALDESC:Évènements pour JEOL
REFRESH-INTERVAL;VALUE=DURATION:PT1H
X-Robots-Tag:noindex
X-PUBLISHED-TTL:PT1H
BEGIN:VTIMEZONE
TZID:Europe/Paris
BEGIN:DAYLIGHT
TZOFFSETFROM:+0100
TZOFFSETTO:+0200
TZNAME:CEST
DTSTART:20240331T010000
END:DAYLIGHT
BEGIN:STANDARD
TZOFFSETFROM:+0200
TZOFFSETTO:+0100
TZNAME:CET
DTSTART:20241027T010000
END:STANDARD
END:VTIMEZONE
BEGIN:VEVENT
DTSTART;VALUE=DATE:20240908
DTEND;VALUE=DATE:20240913
DTSTAMP:20260419T200316
CREATED:20240906T123418Z
LAST-MODIFIED:20240906T123927Z
UID:9367-1725753600-1726185599@www.jeol.fr
SUMMARY:EFEPR 2024
DESCRIPTION:JEOL sera présent à la 12e conférence EFEPR (European Federation of electron paramagnetic resonance).\nCe forum international réunit physiciens\, chimistes\, biologistes et autres scientifiques des milieux universitaire et industriel\, intéressés par les derniers développements en spectroscopie RPE dans les domaines de la nanophysique et les matériaux\, la recherche biomédicale et les biosystèmes\, l’énergie et l’environnement\, DNP et les méthodes avancées\, les approches théoriques\, les approches émergentes… \nImane Senoussaoui\, ingénieur d’application\, présentera les équipements JEOL RMN\, le 9 septembre de 11h40 à 11h50. \nVenez échanger avec nos commerciaux sur le spectromètre ESR JES-X3. \nJEOL partenaire de cet événement
URL:https://www.jeol.fr/event/efepr-2024/
LOCATION:CNRS Campus\, Marseille\, France
CATEGORIES:Colloques, conférences, séminaires, rencontres
ATTACH;FMTTYPE=image/jpeg:https://www.jeol.fr/wp-content/uploads/2024/09/vignette_actu_EFEPR-JES-X3-series.jpg
END:VEVENT
BEGIN:VEVENT
DTSTART;TZID=Europe/Paris:20240911T093000
DTEND;TZID=Europe/Paris:20240911T173000
DTSTAMP:20260419T200316
CREATED:20240517T131501Z
LAST-MODIFIED:20240517T133643Z
UID:8877-1726047000-1726075800@www.jeol.fr
SUMMARY:Cryo-EMontpellier
DESCRIPTION:Rejoignez-nous le 11 septembre à l’Institut de Botanique à Montpellier pour assister à une série de présentations par des experts de renom et de tables rondes consacrées aux dernières avancées en imagerie cryo-EM. Nous explorerons les structures macromoléculaires\, les progrès révolutionnaires en pharmacologie structurale et dans la conception de médicaments\, ainsi que les idées novatrices en biologie cellulaire rendues possibles par la cryotomographie. Cet événement unique vous permettra de découvrir les innovations et les applications de pointe qui façonnent l’avenir de la recherche scientifique. \n  \n \n\n\n\nInscription\n\n\n\n 
URL:https://www.jeol.fr/event/cryo-emontpellier/
LOCATION:Institut de Botanique\, Montpellier\, France
CATEGORIES:Colloques, conférences, séminaires, rencontres
ATTACH;FMTTYPE=image/jpeg:https://www.jeol.fr/wp-content/uploads/2024/05/vignette_actu_cryo-EMontpellier.jpg
END:VEVENT
END:VCALENDAR